BEGIN:VCALENDAR
VERSION:2.0
PRODID:-//NotKarate.com - ECPv6.15.20//NONSGML v1.0//EN
CALSCALE:GREGORIAN
METHOD:PUBLISH
X-WR-CALNAME:NotKarate.com
X-ORIGINAL-URL:https://notkarate.com
X-WR-CALDESC:Events for NotKarate.com
REFRESH-INTERVAL;VALUE=DURATION:PT1H
X-Robots-Tag:noindex
X-PUBLISHED-TTL:PT1H
BEGIN:VTIMEZONE
TZID:America/New_York
BEGIN:DAYLIGHT
TZOFFSETFROM:-0500
TZOFFSETTO:-0400
TZNAME:EDT
DTSTART:20250309T070000
END:DAYLIGHT
BEGIN:STANDARD
TZOFFSETFROM:-0400
TZOFFSETTO:-0500
TZNAME:EST
DTSTART:20251102T060000
END:STANDARD
BEGIN:DAYLIGHT
TZOFFSETFROM:-0500
TZOFFSETTO:-0400
TZNAME:EDT
DTSTART:20260308T070000
END:DAYLIGHT
BEGIN:STANDARD
TZOFFSETFROM:-0400
TZOFFSETTO:-0500
TZNAME:EST
DTSTART:20261101T060000
END:STANDARD
BEGIN:DAYLIGHT
TZOFFSETFROM:-0500
TZOFFSETTO:-0400
TZNAME:EDT
DTSTART:20270314T070000
END:DAYLIGHT
BEGIN:STANDARD
TZOFFSETFROM:-0400
TZOFFSETTO:-0500
TZNAME:EST
DTSTART:20271107T060000
END:STANDARD
END:VTIMEZONE
BEGIN:VEVENT
DTSTART;TZID=America/New_York:20260311T140000
DTEND;TZID=America/New_York:20260429T150000
DTSTAMP:20260423T144834
CREATED:20251126T005603Z
LAST-MODIFIED:20260214T193144Z
UID:31-1773237600-1777474800@notkarate.com
SUMMARY:Tai Chi Simplified: A Practical 4-Week Beginner Series
DESCRIPTION:Move with ease\, breathe with purpose\, and discover why Tai Chi is often called “meditation in motion.”\n\nJoin us for a five-week beginner-friendly series at the Brookhaven Free Library where you’ll learn the fundamentals of Tai Chi through gentle\, flowing movement.\n\nEach week introduces new postures from the Yang style short form\, along with simple principles that improve balance\, posture\, and body awareness. Classes are taught in plain language—no mystical jargon—so you can feel confident and comfortable from day one.\n\nWhether you’re looking to build strength\, reduce stress\, or just try something new\, this class will leave you feeling centered and refreshed. No experience is needed and all fitness levels are welcome. Wear comfortable clothing and shoes you can move in.\n\nSchedule:Wednesdays • 2:00 – 3:00 PMMarch 11 • March 18 • April 15 • April 22 • April 29\n\nLocation: Brookhaven Free LibraryInstructor: Michael Evans\, Synchronicity Coaching\n\n\nCome experience how small\, mindful actions can make a big difference in the way you move and feel every day.\n \n\nThis program is offered through Vision Martial Arts\, now part of the Synchronicity Coaching SynchroVerse of brands.
URL:https://notkarate.com/event/tai-chi-simplified-a-practical-4-week-beginner-series/
LOCATION:Brookhaven Free Library\, 273 Beaver Dam Road\, Brookhaven\, NY\, 11719\, United States
ATTACH;FMTTYPE=image/png:https://notkarate.com/wp-content/uploads/2025/11/Tai-Chi-Simplified-1.png
ORGANIZER;CN="Vision Martial Arts":MAILTO:Info@SynchroCoaching.com
END:VEVENT
BEGIN:VEVENT
DTSTART;TZID=America/New_York:20260311T180000
DTEND;TZID=America/New_York:20260429T190000
DTSTAMP:20260423T144834
CREATED:20260214T201805Z
LAST-MODIFIED:20260214T201805Z
UID:4610-1773252000-1777489200@notkarate.com
SUMMARY:Kung Fu for Life & Success at Brookhaven Library
DESCRIPTION:Kung Fu for Life & Success is coming to Brookhaven Library!\n\nThis five-week series blends mindful martial arts movement with powerful mindset tools to help you build focus\, adaptability\, confidence\, and grit\, both in class and in everyday life.\n\nEach one-hour session includes guided warm-ups\, foundational kung fu techniques\, safe and cooperative partner practice\, and thought-provoking discussions that connect physical training to real-world success.\n\nThis is not a combat class. It’s a supportive\, energizing experience designed to strengthen both body and mindset in a welcoming environment.\n\nNo prior martial arts experience required.\n\nDates: 3/11\, 3/18\, 4/15\, 4/22\, 4/29Time: 6:00 PMLocation: Brookhaven Library\n\nCome move\, reflect\, grow… and discover how martial arts principles can transform the way you approach challenges\, goals\, and everyday life.
URL:https://notkarate.com/event/kung-fu-for-life-success-at-brookhaven-library/
LOCATION:Brookhaven Free Library\, 273 Beaver Dam Road\, Brookhaven\, NY\, 11719\, United States
ATTACH;FMTTYPE=image/png:https://notkarate.com/wp-content/uploads/2026/02/Kung-Fu-for-Life-Success.png
ORGANIZER;CN="Vision Martial Arts":MAILTO:Info@SynchroCoaching.com
END:VEVENT
END:VCALENDAR